BEGIN:VCALENDAR
VERSION:2.0
PRODID:-//Munay Frequency - ECPv6.15.11//NONSGML v1.0//EN
CALSCALE:GREGORIAN
METHOD:PUBLISH
X-WR-CALNAME:Munay Frequency
X-ORIGINAL-URL:https://munayfrequency.com
X-WR-CALDESC:Events for Munay Frequency
REFRESH-INTERVAL;VALUE=DURATION:PT1H
X-Robots-Tag:noindex
X-PUBLISHED-TTL:PT1H
BEGIN:VTIMEZONE
TZID:Europe/Zurich
BEGIN:DAYLIGHT
TZOFFSETFROM:+0100
TZOFFSETTO:+0200
TZNAME:CEST
DTSTART:20230326T010000
END:DAYLIGHT
BEGIN:STANDARD
TZOFFSETFROM:+0200
TZOFFSETTO:+0100
TZNAME:CET
DTSTART:20231029T010000
END:STANDARD
BEGIN:DAYLIGHT
TZOFFSETFROM:+0100
TZOFFSETTO:+0200
TZNAME:CEST
DTSTART:20240331T010000
END:DAYLIGHT
BEGIN:STANDARD
TZOFFSETFROM:+0200
TZOFFSETTO:+0100
TZNAME:CET
DTSTART:20241027T010000
END:STANDARD
BEGIN:DAYLIGHT
TZOFFSETFROM:+0100
TZOFFSETTO:+0200
TZNAME:CEST
DTSTART:20250330T010000
END:DAYLIGHT
BEGIN:STANDARD
TZOFFSETFROM:+0200
TZOFFSETTO:+0100
TZNAME:CET
DTSTART:20251026T010000
END:STANDARD
END:VTIMEZONE
BEGIN:VEVENT
DTSTART;TZID=Europe/Zurich:20241013T183000
DTEND;TZID=Europe/Zurich:20241013T213000
DTSTAMP:20260419T140804
CREATED:20240121T215040Z
LAST-MODIFIED:20241005T090207Z
UID:20049-1728844200-1728855000@munayfrequency.com
SUMMARY:Munay Ceremony
DESCRIPTION:Munay Ceremony invites you on an interactive journey through the Self. \nWe will start the session with meditation\, calling in and connecting with the energy of the masterplant cacao followed by a short movement for grounding to open our bodies. \nAuthentic relating – a conscious communication practice\, is woven into the experience and therefore creates a space experience and an opening of the heart through interacting in community. \nThe magical vibrations of crystal- and bronze singing bowls\, the harmonious sounds of the Koshi\, the rhythmic drum\, and much more will take you into fascinating worlds and create a deeply nourishing experience. \nThis space is created to welcome you in all that you are and invite an opening of the heart through union\, mindfulness\, and clarity with yourself and your surroundings. \n✨ \nLook forward to experiencing: \nCeremonial Cacao from Peru\nSound Journey\nMovement\nAuthentic Relating\nMeditation\nCommunity
URL:https://munayfrequency.com/event/munay-ceremony-template/
LOCATION:Zürich Hönggerberg\, Appenzellerstrasse 49\, Zürich\, Zürich\, 8049\, Schweiz
CATEGORIES:Munay Ceremony
ORGANIZER;CN="Vanessa MunayFrequency":MAILTO:info@munayfrequency.com
END:VEVENT
BEGIN:VEVENT
DTSTART;TZID=Europe/Zurich:20240126T180000
DTEND;TZID=Europe/Zurich:20240126T210000
DTSTAMP:20260419T140804
CREATED:20240121T214626Z
LAST-MODIFIED:20240121T214642Z
UID:20044-1706292000-1706302800@munayfrequency.com
SUMMARY:Cacao Cermony
DESCRIPTION:With IntiSol
URL:https://munayfrequency.com/event/cacao-cermony/
LOCATION:Zürich Hönggerberg\, Appenzellerstrasse 49\, Zürich\, Zürich\, 8049\, Schweiz
CATEGORIES:Munay Ceremony
END:VEVENT
END:VCALENDAR